BEGIN:VCALENDAR
VERSION:2.0
PRODID:-//Southern Oregon Sanitation | Garbage Collection in Jackson and Josephine Counties - ECPv6.15.20//NONSGML v1.0//EN
CALSCALE:GREGORIAN
METHOD:PUBLISH
X-WR-CALNAME:Southern Oregon Sanitation | Garbage Collection in Jackson and Josephine Counties
X-ORIGINAL-URL:https://sosanitation.com
X-WR-CALDESC:Events for Southern Oregon Sanitation | Garbage Collection in Jackson and Josephine Counties
REFRESH-INTERVAL;VALUE=DURATION:PT1H
X-Robots-Tag:noindex
X-PUBLISHED-TTL:PT1H
BEGIN:VTIMEZONE
TZID:America/Los_Angeles
BEGIN:DAYLIGHT
TZOFFSETFROM:-0800
TZOFFSETTO:-0700
TZNAME:PDT
DTSTART:20240310T100000
END:DAYLIGHT
BEGIN:STANDARD
TZOFFSETFROM:-0700
TZOFFSETTO:-0800
TZNAME:PST
DTSTART:20241103T090000
END:STANDARD
BEGIN:DAYLIGHT
TZOFFSETFROM:-0800
TZOFFSETTO:-0700
TZNAME:PDT
DTSTART:20250309T100000
END:DAYLIGHT
BEGIN:STANDARD
TZOFFSETFROM:-0700
TZOFFSETTO:-0800
TZNAME:PST
DTSTART:20251102T090000
END:STANDARD
BEGIN:DAYLIGHT
TZOFFSETFROM:-0800
TZOFFSETTO:-0700
TZNAME:PDT
DTSTART:20260308T100000
END:DAYLIGHT
BEGIN:STANDARD
TZOFFSETFROM:-0700
TZOFFSETTO:-0800
TZNAME:PST
DTSTART:20261101T090000
END:STANDARD
END:VTIMEZONE
BEGIN:VEVENT
DTSTART;VALUE=DATE:20250421
DTEND;VALUE=DATE:20250510
DTSTAMP:20260420T075515
CREATED:20250408T170701Z
LAST-MODIFIED:20250416T234737Z
UID:692-1745193600-1746835199@sosanitation.com
SUMMARY:Weekly Yard Debris Service - City of Grants Pass & Urban Growth Boundary Customers
DESCRIPTION:Spring is here! \nSouthern Oregon Sanitation is excited to announce that our Spring Weekly Yard Debris Service is back! This weekly service is designed to help our community manage their yard waste effectively and sustainably during seasons where we see an abundance of yard waste. This service is provided for customers that live within the City of Grants Pass and Urban Growth Boundary. \n \nDownload our mobile app for service reminders!  \n 
URL:https://sosanitation.com/event/weekly-yard-debris-service-city-of-grants-pass-urban-growth-boundary-customers/
END:VEVENT
END:VCALENDAR